BEGIN:VCALENDAR
VERSION:2.0
PRODID:-//Falles de Torrent - ECPv6.6.3//NONSGML v1.0//EN
CALSCALE:GREGORIAN
METHOD:PUBLISH
X-ORIGINAL-URL:https://falles.torrent.es
X-WR-CALDESC:Events for Falles de Torrent
REFRESH-INTERVAL;VALUE=DURATION:PT1H
X-Robots-Tag:noindex
X-PUBLISHED-TTL:PT1H
BEGIN:VTIMEZONE
TZID:UTC
BEGIN:STANDARD
TZOFFSETFROM:+0000
TZOFFSETTO:+0000
TZNAME:UTC
DTSTART:20260101T000000
END:STANDARD
END:VTIMEZONE
BEGIN:VEVENT
DTSTART;VALUE=DATE:20260315
DTEND;VALUE=DATE:20260316
DTSTAMP:20260423T001822
CREATED:20260106T125103Z
LAST-MODIFIED:20260106T125103Z
UID:20223-1773532800-1773619199@falles.torrent.es
SUMMARY:Plantà
DESCRIPTION:
URL:https://falles.torrent.es/event/planta-2/
LOCATION:VALENCIA
END:VEVENT
END:VCALENDAR