BEGIN:VCALENDAR
VERSION:2.0
PRODID:-//Falles - ECPv6.6.3//NONSGML v1.0//EN
CALSCALE:GREGORIAN
METHOD:PUBLISH
X-ORIGINAL-URL:https://falles.torrent.es/?lang=es
X-WR-CALDESC:Events for Falles
REFRESH-INTERVAL;VALUE=DURATION:PT1H
X-Robots-Tag:noindex
X-PUBLISHED-TTL:PT1H
BEGIN:VTIMEZONE
TZID:UTC
BEGIN:STANDARD
TZOFFSETFROM:+0000
TZOFFSETTO:+0000
TZNAME:UTC
DTSTART:20260101T000000
END:STANDARD
END:VTIMEZONE
BEGIN:VEVENT
DTSTART;VALUE=DATE:20260206
DTEND;VALUE=DATE:20260207
DTSTAMP:20260424T235413
CREATED:20251217T174918Z
LAST-MODIFIED:20251217T174918Z
UID:20096-1770336000-1770422399@falles.torrent.es
SUMMARY:SOPAR HOMENATGE FALLERA MAJOR DE TORRENT 2026
DESCRIPTION:
URL:https://falles.torrent.es/event/sopar-homenatge-fallera-major-de-torrent-2026/?lang=es
LOCATION:VALENCIA
END:VEVENT
BEGIN:VEVENT
DTSTART;VALUE=DATE:20260213
DTEND;VALUE=DATE:20260214
DTSTAMP:20260424T235413
CREATED:20251217T174955Z
LAST-MODIFIED:20260106T131822Z
UID:20098-1770940800-1771027199@falles.torrent.es
SUMMARY:PRESENTACIÓ DEL GRANERER
DESCRIPTION:Acte de presentació del llibre oficial de falles «El Granerer» i intercanvi de fotografies entre les Falleres Majors de Torrent i les Falleres Majors de les falles de Torrent\, en el saló d’actes de l’Ajuntament
URL:https://falles.torrent.es/event/presentacio-del-granerer/?lang=es
LOCATION:VALENCIA
END:VEVENT
BEGIN:VEVENT
DTSTART;VALUE=DATE:20260214
DTEND;VALUE=DATE:20260215
DTSTAMP:20260424T235413
CREATED:20251217T175042Z
LAST-MODIFIED:20251217T175042Z
UID:20204-1771027200-1771113599@falles.torrent.es
SUMMARY:COMIDA HOMENAJE FALLERA MAYOR INFANTIL DE TORRENT
DESCRIPTION:
URL:https://falles.torrent.es/event/comida-homenaje-fallera-mayor-infantil-de-torrent/?lang=es
LOCATION:VALENCIA
END:VEVENT
BEGIN:VEVENT
DTSTART;VALUE=DATE:20260220
DTEND;VALUE=DATE:20260221
DTSTAMP:20260424T235413
CREATED:20260106T124704Z
LAST-MODIFIED:20260106T124704Z
UID:20247-1771545600-1771631999@falles.torrent.es
SUMMARY:Lliurament de ninots per a l’exposició
DESCRIPTION:Lliurament de ninots per a l’exposició del Ninot al Nou Mercat\no Arribada del foc
URL:https://falles.torrent.es/event/lliurament-de-ninots-per-a-lexposicio/?lang=es
LOCATION:VALENCIA
END:VEVENT
BEGIN:VEVENT
DTSTART;VALUE=DATE:20260221
DTEND;VALUE=DATE:20260222
DTSTAMP:20260424T235413
CREATED:20260106T124744Z
LAST-MODIFIED:20260106T124744Z
UID:20264-1771632000-1771718399@falles.torrent.es
SUMMARY:Lliurament de ninots per a l’exposició del Ninot al Nou Mercat
DESCRIPTION:
URL:https://falles.torrent.es/event/lliurament-de-ninots-per-a-lexposicio-del-ninot-al-nou-mercat/?lang=es
LOCATION:VALENCIA
END:VEVENT
BEGIN:VEVENT
DTSTART;VALUE=DATE:20260221
DTEND;VALUE=DATE:20260222
DTSTAMP:20260424T235413
CREATED:20260106T124802Z
LAST-MODIFIED:20260106T124802Z
UID:20263-1771632000-1771718399@falles.torrent.es
SUMMARY:Macrodespertà a l'Avinguda al Vedat.
DESCRIPTION:
URL:https://falles.torrent.es/event/macrodesperta-a-lavinguda-al-vedat/?lang=es
LOCATION:VALENCIA
END:VEVENT
BEGIN:VEVENT
DTSTART;VALUE=DATE:20260221
DTEND;VALUE=DATE:20260222
DTSTAMP:20260424T235413
CREATED:20260106T124824Z
LAST-MODIFIED:20260106T124824Z
UID:20262-1771632000-1771718399@falles.torrent.es
SUMMARY:Crida a la Torre.
DESCRIPTION:
URL:https://falles.torrent.es/event/crida-a-la-torre/?lang=es
LOCATION:VALENCIA
END:VEVENT
BEGIN:VEVENT
DTSTART;VALUE=DATE:20260222
DTEND;VALUE=DATE:20260223
DTSTAMP:20260424T235413
CREATED:20260106T124853Z
LAST-MODIFIED:20260106T124853Z
UID:20261-1771718400-1771804799@falles.torrent.es
SUMMARY:Cavalcada infantil
DESCRIPTION:
URL:https://falles.torrent.es/event/cavalcada-infantil-2/?lang=es
LOCATION:VALENCIA
END:VEVENT
BEGIN:VEVENT
DTSTART;VALUE=DATE:20260224
DTEND;VALUE=DATE:20260225
DTSTAMP:20260424T235413
CREATED:20260106T124932Z
LAST-MODIFIED:20260106T124932Z
UID:20260-1771891200-1771977599@falles.torrent.es
SUMMARY:nauguració exposició del Ninot Indultat
DESCRIPTION:Inauguració exposició del Ninot Indultat i lectura de premis a la sala polivalent del Nou Mercat
URL:https://falles.torrent.es/event/nauguracio-exposicio-del-ninot-indultat/?lang=es
LOCATION:VALENCIA
END:VEVENT
BEGIN:VEVENT
DTSTART;VALUE=DATE:20260227
DTEND;VALUE=DATE:20260228
DTSTAMP:20260424T235413
CREATED:20260106T124955Z
LAST-MODIFIED:20260106T124955Z
UID:20259-1772150400-1772236799@falles.torrent.es
SUMMARY:Entrega de recompenses de fulles de llorer i brillants.
DESCRIPTION:Entrega de recompenses de fulles de llorer i brillants.
URL:https://falles.torrent.es/event/entrega-de-recompenses-de-fulles-de-llorer-i-brillants-2/?lang=es
LOCATION:VALENCIA
END:VEVENT
BEGIN:VEVENT
DTSTART;VALUE=DATE:20260228
DTEND;VALUE=DATE:20260301
DTSTAMP:20260424T235413
CREATED:20260106T125014Z
LAST-MODIFIED:20260106T125014Z
UID:20258-1772236800-1772323199@falles.torrent.es
SUMMARY:Cavalcada del ninot Major.
DESCRIPTION:
URL:https://falles.torrent.es/event/cavalcada-del-ninot-major-2/?lang=es
LOCATION:VALENCIA
END:VEVENT
END:VCALENDAR